Package: NADfinder Version: 1.31.1 Command: /Library/Frameworks/R.framework/Resources/bin/R CMD build --keep-empty-dirs --no-resave-data NADfinder StartedAt: 2025-02-20 17:34:11 -0500 (Thu, 20 Feb 2025) EndedAt: 2025-02-20 17:38:04 -0500 (Thu, 20 Feb 2025) EllapsedTime: 233.0 seconds RetCode: 0 Status: OK PackageFile: NADfinder_1.31.1.tar.gz PackageFileSize: 6.013 MiB