Package: NADfinder Version: 1.31.1 Command: rm -rf NADfinder.buildbin-libdir && mkdir NADfinder.buildbin-libdir && /Users/biocbuild/BBS/utils/build-universal.sh NADfinder_1.31.1.tar.gz /Library/Frameworks/R.framework/Resources/bin/R NADfinder.buildbin-libdir StartedAt: 2025-02-21 00:42:45 -0500 (Fri, 21 Feb 2025) EndedAt: 2025-02-21 00:44:23 -0500 (Fri, 21 Feb 2025) EllapsedTime: 98.2 seconds RetCode: 0 Status: OK PackageFile: NADfinder_1.31.1.tgz PackageFileSize: 6.506 MiB