Package: MutationalPatterns Version: 3.17.0 Command: chmod a+r MutationalPatterns -R && E:\biocbuild\bbs-3.21-bioc\R\bin\R.exe CMD build --keep-empty-dirs --no-resave-data MutationalPatterns StartedAt: 2025-02-20 20:20:09 -0500 (Thu, 20 Feb 2025) EndedAt: 2025-02-20 20:35:54 -0500 (Thu, 20 Feb 2025) EllapsedTime: 945.3 seconds RetCode: 0 Status: OK PackageFile: MutationalPatterns_3.17.0.tar.gz PackageFileSize: 3.357 MiB