Package: MutationalPatterns Version: 3.18.0 Command: /Library/Frameworks/R.framework/Resources/bin/R CMD INSTALL MutationalPatterns StartedAt: 2025-10-13 16:14:59 -0400 (Mon, 13 Oct 2025) EndedAt: 2025-10-13 16:15:43 -0400 (Mon, 13 Oct 2025) EllapsedTime: 44.8 seconds RetCode: 0 Status: OK