Package: MutationalPatterns Version: 3.18.0 Command: /Library/Frameworks/R.framework/Resources/bin/R CMD INSTALL MutationalPatterns StartedAt: 2025-09-29 17:29:21 -0400 (Mon, 29 Sep 2025) EndedAt: 2025-09-29 17:29:43 -0400 (Mon, 29 Sep 2025) EllapsedTime: 21.9 seconds RetCode: 0 Status: OK