Package: MungeSumstats Version: 1.15.12 Command: /Library/Frameworks/R.framework/Resources/bin/R CMD INSTALL MungeSumstats StartedAt: 2025-02-19 15:11:00 -0500 (Wed, 19 Feb 2025) EndedAt: 2025-02-19 15:11:18 -0500 (Wed, 19 Feb 2025) EllapsedTime: 17.9 seconds RetCode: 0 Status: OK