Package: MungeSumstats Version: 1.15.12 Command: /Library/Frameworks/R.framework/Resources/bin/R CMD check --install=check:MungeSumstats.install-out.txt --library=/Library/Frameworks/R.framework/Resources/library --no-vignettes --timings MungeSumstats_1.15.12.tar.gz StartedAt: 2025-02-19 20:29:03 -0500 (Wed, 19 Feb 2025) EndedAt: 2025-02-19 20:34:51 -0500 (Wed, 19 Feb 2025) EllapsedTime: 347.5 seconds RetCode: 0 Status: OK CheckDir: MungeSumstats.Rcheck Warnings: 0