Package: MultimodalExperiment Version: 1.7.0 Command: chmod a+r MultimodalExperiment -R && E:\biocbuild\bbs-3.21-bioc\R\bin\R.exe CMD build --keep-empty-dirs --no-resave-data MultimodalExperiment StartedAt: 2025-02-19 20:15:09 -0500 (Wed, 19 Feb 2025) EndedAt: 2025-02-19 20:16:14 -0500 (Wed, 19 Feb 2025) EllapsedTime: 65.0 seconds RetCode: 0 Status: OK PackageFile: MultimodalExperiment_1.7.0.tar.gz PackageFileSize: 2.532 MiB