Package: MultimodalExperiment Version: 1.7.0 Command: /home/biocbuild/bbs-3.21-bioc/R/bin/R CMD build --keep-empty-dirs --no-resave-data MultimodalExperiment StartedAt: 2025-02-19 18:19:02 -0500 (Wed, 19 Feb 2025) EndedAt: 2025-02-19 18:19:44 -0500 (Wed, 19 Feb 2025) EllapsedTime: 42.1 seconds RetCode: 0 Status: OK PackageFile: MultimodalExperiment_1.7.0.tar.gz PackageFileSize: 2.532 MiB