Package: MultimodalExperiment Version: 1.7.0 Command: /Library/Frameworks/R.framework/Resources/bin/R CMD build --keep-empty-dirs --no-resave-data MultimodalExperiment StartedAt: 2025-02-19 17:33:31 -0500 (Wed, 19 Feb 2025) EndedAt: 2025-02-19 17:34:25 -0500 (Wed, 19 Feb 2025) EllapsedTime: 53.9 seconds RetCode: 0 Status: OK PackageFile: MultimodalExperiment_1.7.0.tar.gz PackageFileSize: 2.532 MiB