Package: MultimodalExperiment Version: 1.8.0 Command: /Library/Frameworks/R.framework/Resources/bin/R CMD build --keep-empty-dirs --no-resave-data MultimodalExperiment StartedAt: 2025-10-14 05:19:43 -0400 (Tue, 14 Oct 2025) EndedAt: 2025-10-14 05:20:37 -0400 (Tue, 14 Oct 2025) EllapsedTime: 54.4 seconds RetCode: 0 Status: OK PackageFile: MultimodalExperiment_1.8.0.tar.gz PackageFileSize: 2.532 MiB