Package: MultiDataSet Version: 1.35.0 Command: chmod a+r MultiDataSet -R && E:\biocbuild\bbs-3.21-bioc\R\bin\R.exe CMD build --keep-empty-dirs --no-resave-data MultiDataSet StartedAt: 2025-02-20 20:17:18 -0500 (Thu, 20 Feb 2025) EndedAt: 2025-02-20 20:18:42 -0500 (Thu, 20 Feb 2025) EllapsedTime: 84.4 seconds RetCode: 0 Status: OK PackageFile: MultiDataSet_1.35.0.tar.gz PackageFileSize: 495.5 KiB