Package: MultiDataSet Version: 1.35.0 Command: rm -rf MultiDataSet.buildbin-libdir && mkdir MultiDataSet.buildbin-libdir && E:\biocbuild\bbs-3.21-bioc\R\bin\R.exe CMD INSTALL --build --library=MultiDataSet.buildbin-libdir MultiDataSet_1.35.0.tar.gz StartedAt: 2025-02-21 08:37:49 -0500 (Fri, 21 Feb 2025) EndedAt: 2025-02-21 08:39:01 -0500 (Fri, 21 Feb 2025) EllapsedTime: 71.7 seconds RetCode: 0 Status: OK PackageFile: MultiDataSet_1.35.0.zip PackageFileSize: 878.6 KiB