Package: MultiDataSet Version: 1.36.0 Command: /Library/Frameworks/R.framework/Resources/bin/R CMD INSTALL MultiDataSet StartedAt: 2025-10-13 15:37:54 -0400 (Mon, 13 Oct 2025) EndedAt: 2025-10-13 15:38:46 -0400 (Mon, 13 Oct 2025) EllapsedTime: 52.1 seconds RetCode: 0 Status: OK