Package: MultiDataSet Version: 1.36.0 Command: /Library/Frameworks/R.framework/Resources/bin/R CMD build --keep-empty-dirs --no-resave-data MultiDataSet StartedAt: 2025-10-13 20:59:34 -0400 (Mon, 13 Oct 2025) EndedAt: 2025-10-13 21:01:27 -0400 (Mon, 13 Oct 2025) EllapsedTime: 113.0 seconds RetCode: 0 Status: OK PackageFile: MultiDataSet_1.36.0.tar.gz PackageFileSize: 494.8 KiB