Package: MultiDataSet Version: 1.35.0 Command: /Library/Frameworks/R.framework/Resources/bin/R CMD build --keep-empty-dirs --no-resave-data MultiDataSet StartedAt: 2025-02-20 17:32:35 -0500 (Thu, 20 Feb 2025) EndedAt: 2025-02-20 17:33:47 -0500 (Thu, 20 Feb 2025) EllapsedTime: 72.1 seconds RetCode: 0 Status: OK PackageFile: MultiDataSet_1.35.0.tar.gz PackageFileSize: 494.8 KiB