Package: MultiDataSet Version: 1.36.0 Command: /Library/Frameworks/R.framework/Resources/bin/R CMD INSTALL MultiDataSet StartedAt: 2025-10-02 16:20:52 -0400 (Thu, 02 Oct 2025) EndedAt: 2025-10-02 16:21:20 -0400 (Thu, 02 Oct 2025) EllapsedTime: 28.0 seconds RetCode: 0 Status: OK