Package: MultiDataSet Version: 1.36.0 Command: /Library/Frameworks/R.framework/Resources/bin/R CMD build --keep-empty-dirs --no-resave-data MultiDataSet StartedAt: 2025-10-03 05:12:38 -0400 (Fri, 03 Oct 2025) EndedAt: 2025-10-03 05:13:49 -0400 (Fri, 03 Oct 2025) EllapsedTime: 71.5 seconds RetCode: 0 Status: OK PackageFile: MultiDataSet_1.36.0.tar.gz PackageFileSize: 494.9 KiB