Package: MultiDataSet Version: 1.36.0 Command: rm -rf MultiDataSet.buildbin-libdir && mkdir MultiDataSet.buildbin-libdir && /Users/biocbuild/BBS/utils/build-universal.sh MultiDataSet_1.36.0.tar.gz /Library/Frameworks/R.framework/Resources/bin/R MultiDataSet.buildbin-libdir StartedAt: 2025-10-04 19:01:12 -0400 (Sat, 04 Oct 2025) EndedAt: 2025-10-04 19:01:43 -0400 (Sat, 04 Oct 2025) EllapsedTime: 31.7 seconds RetCode: 0 Status: OK PackageFile: MultiDataSet_1.36.0.tgz PackageFileSize: 870.8 KiB