Package: MultiBaC Version: 1.17.0 Command: E:\biocbuild\bbs-3.21-bioc\R\bin\R.exe CMD INSTALL MultiBaC StartedAt: 2025-02-21 17:30:24 -0500 (Fri, 21 Feb 2025) EndedAt: 2025-02-21 17:30:40 -0500 (Fri, 21 Feb 2025) EllapsedTime: 15.8 seconds RetCode: 0 Status: OK