Package: MultiBaC Version: 1.17.0 Command: rm -rf MultiBaC.buildbin-libdir && mkdir MultiBaC.buildbin-libdir && E:\biocbuild\bbs-3.21-bioc\R\bin\R.exe CMD INSTALL --build --library=MultiBaC.buildbin-libdir MultiBaC_1.17.0.tar.gz StartedAt: 2025-02-21 08:37:34 -0500 (Fri, 21 Feb 2025) EndedAt: 2025-02-21 08:37:50 -0500 (Fri, 21 Feb 2025) EllapsedTime: 16.6 seconds RetCode: 0 Status: OK PackageFile: MultiBaC_1.17.0.zip PackageFileSize: 791.6 KiB