Package: MultiBaC Version: 1.17.0 Command: /home/biocbuild/bbs-3.21-bioc/R/bin/R CMD check --install=check:MultiBaC.install-out.txt --library=/home/biocbuild/bbs-3.21-bioc/R/site-library --timings MultiBaC_1.17.0.tar.gz StartedAt: 2025-02-21 00:00:58 -0500 (Fri, 21 Feb 2025) EndedAt: 2025-02-21 00:04:09 -0500 (Fri, 21 Feb 2025) EllapsedTime: 191.3 seconds RetCode: 0 Status: OK CheckDir: MultiBaC.Rcheck Warnings: 0