Package: MultiBaC Version: 1.17.0 Command: /Library/Frameworks/R.framework/Resources/bin/R CMD INSTALL MultiBaC StartedAt: 2025-02-21 15:39:24 -0500 (Fri, 21 Feb 2025) EndedAt: 2025-02-21 15:39:32 -0500 (Fri, 21 Feb 2025) EllapsedTime: 7.3 seconds RetCode: 0 Status: OK