Package: MultiBaC Version: 1.17.0 Command: /Library/Frameworks/R.framework/Resources/bin/R CMD check --install=check:MultiBaC.install-out.txt --library=/Library/Frameworks/R.framework/Resources/library --no-vignettes --timings MultiBaC_1.17.0.tar.gz StartedAt: 2025-02-21 21:54:52 -0500 (Fri, 21 Feb 2025) EndedAt: 2025-02-21 21:57:21 -0500 (Fri, 21 Feb 2025) EllapsedTime: 149.9 seconds RetCode: 0 Status: OK CheckDir: MultiBaC.Rcheck Warnings: 0