Package: MultiBaC Version: 1.17.0 Command: rm -rf MultiBaC.buildbin-libdir && mkdir MultiBaC.buildbin-libdir && /Users/biocbuild/BBS/utils/build-universal.sh MultiBaC_1.17.0.tar.gz /Library/Frameworks/R.framework/Resources/bin/R MultiBaC.buildbin-libdir StartedAt: 2025-02-20 22:27:25 -0500 (Thu, 20 Feb 2025) EndedAt: 2025-02-20 22:27:28 -0500 (Thu, 20 Feb 2025) EllapsedTime: 3.1 seconds RetCode: 0 Status: OK PackageFile: MultiBaC_1.17.0.tgz PackageFileSize: 1.808 MiB