Package: Mulcom Version: 1.57.0 Command: /home/biocbuild/bbs-3.21-bioc/R/bin/R CMD INSTALL Mulcom StartedAt: 2025-02-20 15:22:30 -0500 (Thu, 20 Feb 2025) EndedAt: 2025-02-20 15:22:37 -0500 (Thu, 20 Feb 2025) EllapsedTime: 7.2 seconds RetCode: 0 Status: OK