Package: Mulcom Version: 1.57.0 Command: /Library/Frameworks/R.framework/Resources/bin/R CMD INSTALL Mulcom StartedAt: 2025-02-20 15:08:03 -0500 (Thu, 20 Feb 2025) EndedAt: 2025-02-20 15:08:18 -0500 (Thu, 20 Feb 2025) EllapsedTime: 14.1 seconds RetCode: 0 Status: OK