Package: Mulcom Version: 1.57.0 Command: rm -rf Mulcom.buildbin-libdir && mkdir Mulcom.buildbin-libdir && /Users/biocbuild/BBS/utils/build-universal.sh Mulcom_1.57.0.tar.gz /Library/Frameworks/R.framework/Resources/bin/R Mulcom.buildbin-libdir StartedAt: 2025-02-21 00:42:14 -0500 (Fri, 21 Feb 2025) EndedAt: 2025-02-21 00:42:29 -0500 (Fri, 21 Feb 2025) EllapsedTime: 14.9 seconds RetCode: 0 Status: OK PackageFile: Mulcom_1.57.0.tgz PackageFileSize: 1.187 MiB