Package: Mulcom Version: 1.57.0 Command: /Library/Frameworks/R.framework/Resources/bin/R CMD check --install=check:Mulcom.install-out.txt --library=/Library/Frameworks/R.framework/Resources/library --no-vignettes --timings Mulcom_1.57.0.tar.gz StartedAt: 2025-02-20 20:24:35 -0500 (Thu, 20 Feb 2025) EndedAt: 2025-02-20 20:25:02 -0500 (Thu, 20 Feb 2025) EllapsedTime: 27.4 seconds RetCode: 0 Status: WARNINGS CheckDir: Mulcom.Rcheck Warnings: 1