Package: Mulcom Version: 1.57.0 Command: /Library/Frameworks/R.framework/Resources/bin/R CMD build --keep-empty-dirs --no-resave-data Mulcom StartedAt: 2025-02-20 17:04:21 -0500 (Thu, 20 Feb 2025) EndedAt: 2025-02-20 17:04:22 -0500 (Thu, 20 Feb 2025) EllapsedTime: 1.0 seconds RetCode: 0 Status: OK PackageFile: Mulcom_1.57.0.tar.gz PackageFileSize: 1.095 MiB