Package: MuData Version: 1.11.0 Command: /home/biocbuild/bbs-3.21-bioc/R/bin/R CMD INSTALL MuData StartedAt: 2025-02-20 15:29:05 -0500 (Thu, 20 Feb 2025) EndedAt: 2025-02-20 15:29:29 -0500 (Thu, 20 Feb 2025) EllapsedTime: 23.5 seconds RetCode: 0 Status: OK