Package: MuData Version: 1.11.0 Command: /home/biocbuild/bbs-3.21-bioc/R/bin/R CMD build --keep-empty-dirs --no-resave-data MuData StartedAt: 2025-02-20 18:23:37 -0500 (Thu, 20 Feb 2025) EndedAt: 2025-02-20 18:25:49 -0500 (Thu, 20 Feb 2025) EllapsedTime: 132.2 seconds RetCode: 0 Status: OK PackageFile: MuData_1.11.0.tar.gz PackageFileSize: 2.069 MiB