Package: MsQuality Version: 1.7.1 Command: /home/biocbuild/bbs-3.21-bioc/R/bin/R CMD INSTALL MsQuality StartedAt: 2025-02-20 15:47:30 -0500 (Thu, 20 Feb 2025) EndedAt: 2025-02-20 15:48:03 -0500 (Thu, 20 Feb 2025) EllapsedTime: 33.2 seconds RetCode: 0 Status: OK