Package: MsQuality Version: 1.7.1 Command: /home/biocbuild/bbs-3.21-bioc/R/bin/R CMD check --install=check:MsQuality.install-out.txt --library=/home/biocbuild/bbs-3.21-bioc/R/site-library --timings MsQuality_1.7.1.tar.gz StartedAt: 2025-02-20 23:56:50 -0500 (Thu, 20 Feb 2025) EndedAt: 2025-02-21 00:03:06 -0500 (Fri, 21 Feb 2025) EllapsedTime: 376.4 seconds RetCode: 0 Status: OK CheckDir: MsQuality.Rcheck Warnings: 0