Package: MsQuality Version: 1.7.1 Command: /home/biocbuild/bbs-3.21-bioc/R/bin/R CMD build --keep-empty-dirs --no-resave-data MsQuality StartedAt: 2025-02-20 18:22:18 -0500 (Thu, 20 Feb 2025) EndedAt: 2025-02-20 18:23:17 -0500 (Thu, 20 Feb 2025) EllapsedTime: 59.1 seconds RetCode: 0 Status: OK PackageFile: MsQuality_1.7.1.tar.gz PackageFileSize: 4.243 MiB