Package: MsQuality Version: 1.7.1 Command: /Library/Frameworks/R.framework/Resources/bin/R CMD INSTALL MsQuality StartedAt: 2025-02-20 15:18:45 -0500 (Thu, 20 Feb 2025) EndedAt: 2025-02-20 15:18:58 -0500 (Thu, 20 Feb 2025) EllapsedTime: 13.8 seconds RetCode: 0 Status: OK