Package: MsQuality Version: 1.7.1 Command: /Library/Frameworks/R.framework/Resources/bin/R CMD check --install=check:MsQuality.install-out.txt --library=/Library/Frameworks/R.framework/Resources/library --no-vignettes --timings MsQuality_1.7.1.tar.gz StartedAt: 2025-02-20 20:22:49 -0500 (Thu, 20 Feb 2025) EndedAt: 2025-02-20 20:25:16 -0500 (Thu, 20 Feb 2025) EllapsedTime: 147.9 seconds RetCode: 0 Status: OK CheckDir: MsQuality.Rcheck Warnings: 0