Package: MsFeatures Version: 1.15.0 Command: rm -rf MsFeatures.buildbin-libdir && mkdir MsFeatures.buildbin-libdir && E:\biocbuild\bbs-3.21-bioc\R\bin\R.exe CMD INSTALL --build --library=MsFeatures.buildbin-libdir MsFeatures_1.15.0.tar.gz StartedAt: 2025-02-21 08:36:27 -0500 (Fri, 21 Feb 2025) EndedAt: 2025-02-21 08:36:55 -0500 (Fri, 21 Feb 2025) EllapsedTime: 27.6 seconds RetCode: 0 Status: OK PackageFile: MsFeatures_1.15.0.zip PackageFileSize: 889.7 KiB