Package: MsFeatures Version: 1.15.0 Command: rm -rf MsFeatures.buildbin-libdir && mkdir MsFeatures.buildbin-libdir && /Users/biocbuild/BBS/utils/build-universal.sh MsFeatures_1.15.0.tar.gz /Library/Frameworks/R.framework/Resources/bin/R MsFeatures.buildbin-libdir StartedAt: 2025-02-20 00:43:03 -0500 (Thu, 20 Feb 2025) EndedAt: 2025-02-20 00:43:31 -0500 (Thu, 20 Feb 2025) EllapsedTime: 28.9 seconds RetCode: 0 Status: OK PackageFile: MsFeatures_1.15.0.tgz PackageFileSize: 1.257 MiB