Package: MsFeatures Version: 1.15.0 Command: /Library/Frameworks/R.framework/Resources/bin/R CMD INSTALL MsFeatures StartedAt: 2025-02-19 15:04:51 -0500 (Wed, 19 Feb 2025) EndedAt: 2025-02-19 15:04:59 -0500 (Wed, 19 Feb 2025) EllapsedTime: 8.1 seconds RetCode: 0 Status: OK