Package: MsExperiment Version: 1.9.1 Command: /Library/Frameworks/R.framework/Resources/bin/R CMD check --install=check:MsExperiment.install-out.txt --library=/Library/Frameworks/R.framework/Resources/library --no-vignettes --timings MsExperiment_1.9.1.tar.gz StartedAt: 2025-02-18 21:44:58 -0500 (Tue, 18 Feb 2025) EndedAt: 2025-02-18 21:49:20 -0500 (Tue, 18 Feb 2025) EllapsedTime: 262.8 seconds RetCode: 0 Status: OK CheckDir: MsExperiment.Rcheck Warnings: 0