Package: MsExperiment Version: 1.9.1 Command: /Library/Frameworks/R.framework/Resources/bin/R CMD INSTALL MsExperiment StartedAt: 2025-02-18 15:16:31 -0500 (Tue, 18 Feb 2025) EndedAt: 2025-02-18 15:16:43 -0500 (Tue, 18 Feb 2025) EllapsedTime: 12.1 seconds RetCode: 0 Status: OK