Package: MsExperiment Version: 1.9.1 Maintainer: Laurent Gatto MaintainerEmail: laurent.gatto at uclouvain.be git_url: https://git.bioconductor.org/packages/MsExperiment git_branch: devel git_last_commit: bc06ba2 git_last_commit_date: 2025-02-11 02:34:52 -0500 (Tue, 11 Feb 2025)