Package: MsDataHub Version: 1.7.0 Command: /home/biocbuild/bbs-3.21-bioc/R/bin/R CMD INSTALL MsDataHub StartedAt: 2025-02-19 15:26:06 -0500 (Wed, 19 Feb 2025) EndedAt: 2025-02-19 15:26:20 -0500 (Wed, 19 Feb 2025) EllapsedTime: 13.6 seconds RetCode: 0 Status: OK