Package: MsCoreUtils Version: 1.19.0 Command: E:\biocbuild\bbs-3.21-bioc\R\bin\R.exe CMD check --no-multiarch --install=check:MsCoreUtils.install-out.txt --library=E:\biocbuild\bbs-3.21-bioc\R\library --no-vignettes --timings MsCoreUtils_1.19.0.tar.gz StartedAt: 2025-02-20 03:18:56 -0500 (Thu, 20 Feb 2025) EndedAt: 2025-02-20 03:23:54 -0500 (Thu, 20 Feb 2025) EllapsedTime: 298.0 seconds RetCode: 0 Status: OK CheckDir: MsCoreUtils.Rcheck Warnings: 0