Package: MsCoreUtils Version: 1.19.0 Command: chmod a+r MsCoreUtils -R && E:\biocbuild\bbs-3.21-bioc\R\bin\R.exe CMD build --keep-empty-dirs --no-resave-data MsCoreUtils StartedAt: 2025-02-19 20:08:59 -0500 (Wed, 19 Feb 2025) EndedAt: 2025-02-19 20:09:29 -0500 (Wed, 19 Feb 2025) EllapsedTime: 30.2 seconds RetCode: 0 Status: OK PackageFile: MsCoreUtils_1.19.0.tar.gz PackageFileSize: 412.3 KiB