Package: MsCoreUtils Version: 1.20.0 Command: /Library/Frameworks/R.framework/Resources/bin/R CMD INSTALL MsCoreUtils StartedAt: 2025-10-06 15:21:19 -0400 (Mon, 06 Oct 2025) EndedAt: 2025-10-06 15:21:36 -0400 (Mon, 06 Oct 2025) EllapsedTime: 16.7 seconds RetCode: 0 Status: OK