Package: MsCoreUtils Version: 1.20.0 Command: /Library/Frameworks/R.framework/Resources/bin/R CMD build --keep-empty-dirs --no-resave-data MsCoreUtils StartedAt: 2025-10-06 20:50:56 -0400 (Mon, 06 Oct 2025) EndedAt: 2025-10-06 20:51:23 -0400 (Mon, 06 Oct 2025) EllapsedTime: 27.5 seconds RetCode: 0 Status: OK PackageFile: MsCoreUtils_1.20.0.tar.gz PackageFileSize: 414.2 KiB