Package: MsCoreUtils Version: 1.20.0 Command: rm -rf MsCoreUtils.buildbin-libdir && mkdir MsCoreUtils.buildbin-libdir && /Users/biocbuild/BBS/utils/build-universal.sh MsCoreUtils_1.20.0.tar.gz /Library/Frameworks/R.framework/Resources/bin/R MsCoreUtils.buildbin-libdir StartedAt: 2025-10-07 13:51:42 -0400 (Tue, 07 Oct 2025) EndedAt: 2025-10-07 13:52:09 -0400 (Tue, 07 Oct 2025) EllapsedTime: 26.5 seconds RetCode: 0 Status: OK PackageFile: MsCoreUtils_1.20.0.tgz PackageFileSize: 538.1 KiB