Package: MsBackendSql Version: 1.7.3 Command: E:\biocbuild\bbs-3.21-bioc\R\bin\R.exe CMD check --no-multiarch --install=check:MsBackendSql.install-out.txt --library=E:\biocbuild\bbs-3.21-bioc\R\library --no-vignettes --timings MsBackendSql_1.7.3.tar.gz StartedAt: 2025-02-20 03:18:51 -0500 (Thu, 20 Feb 2025) EndedAt: 2025-02-20 03:29:45 -0500 (Thu, 20 Feb 2025) EllapsedTime: 654.3 seconds RetCode: 0 Status: OK CheckDir: MsBackendSql.Rcheck Warnings: 0